BEGIN:VCALENDAR
VERSION:2.0
PRODID:-//Brundage Mountain Resort - ECPv6.15.9//NONSGML v1.0//EN
CALSCALE:GREGORIAN
METHOD:PUBLISH
X-WR-CALNAME:Brundage Mountain Resort
X-ORIGINAL-URL:https://brundage.com
X-WR-CALDESC:Events for Brundage Mountain Resort
REFRESH-INTERVAL;VALUE=DURATION:PT1H
X-Robots-Tag:noindex
X-PUBLISHED-TTL:PT1H
BEGIN:VTIMEZONE
TZID:America/Boise
BEGIN:DAYLIGHT
TZOFFSETFROM:-0700
TZOFFSETTO:-0600
TZNAME:MDT
DTSTART:20150308T090000
END:DAYLIGHT
BEGIN:STANDARD
TZOFFSETFROM:-0600
TZOFFSETTO:-0700
TZNAME:MST
DTSTART:20151101T080000
END:STANDARD
BEGIN:DAYLIGHT
TZOFFSETFROM:-0700
TZOFFSETTO:-0600
TZNAME:MDT
DTSTART:20160313T090000
END:DAYLIGHT
BEGIN:STANDARD
TZOFFSETFROM:-0600
TZOFFSETTO:-0700
TZNAME:MST
DTSTART:20161106T080000
END:STANDARD
BEGIN:DAYLIGHT
TZOFFSETFROM:-0700
TZOFFSETTO:-0600
TZNAME:MDT
DTSTART:20170312T090000
END:DAYLIGHT
BEGIN:STANDARD
TZOFFSETFROM:-0600
TZOFFSETTO:-0700
TZNAME:MST
DTSTART:20171105T080000
END:STANDARD
END:VTIMEZONE
BEGIN:VEVENT
DTSTART;TZID=America/Boise:20161217T170000
DTEND;TZID=America/Boise:20161217T200000
DTSTAMP:20260422T213814
CREATED:20161214T235228Z
LAST-MODIFIED:20161215T003240Z
UID:10000523-1481994000-1482004800@brundage.com
SUMMARY:Winter Wildland Alliance Presents the Backcountry Film Festival
DESCRIPTION:Join us in support of local non-profits McCall Winter Sports Club and Winter Wildland’s Alliance as they present the 2016/2017 Back Country Film Festival! Ring in the winter stoke with several short films featuring some of the world’s most beautiful winter terrain. What better way to pray for snow than celebrating the feats featured in this festival\, alongside our friends\, family\, and local winter sports club! \nThere will be food from New Meadow’s very own Intersection BBQ\, beer\, and a raffle! Come support your local community\, and enjoy a movie night this Saturday! \n  \nTo purchase tickets https://www.eventbrite.com/e/mccall-screening-backcountry-film-festival-tickets-30225767083 \nFor a sneak peak at what you might see: http://winterwildlands.org/backcountry-film-festival/ \n 
URL:https://brundage.com/event/winter-wildland-alliance-presents-backcountry-film-festival/
LOCATION:McCall Airport\, Hangar A\, ID\, 83638\, United States
END:VEVENT
END:VCALENDAR